BEGIN:VCALENDAR
VERSION:2.0
PRODID:-//Duurzame Bedrijven Route - ECPv6.15.20//NONSGML v1.0//EN
CALSCALE:GREGORIAN
METHOD:PUBLISH
X-WR-CALNAME:Duurzame Bedrijven Route
X-ORIGINAL-URL:https://duurzamebedrijvenroute.nl
X-WR-CALDESC:Evenementen voor Duurzame Bedrijven Route
REFRESH-INTERVAL;VALUE=DURATION:PT1H
X-Robots-Tag:noindex
X-PUBLISHED-TTL:PT1H
BEGIN:VTIMEZONE
TZID:Europe/Amsterdam
BEGIN:DAYLIGHT
TZOFFSETFROM:+0100
TZOFFSETTO:+0200
TZNAME:CEST
DTSTART:20250330T010000
END:DAYLIGHT
BEGIN:STANDARD
TZOFFSETFROM:+0200
TZOFFSETTO:+0100
TZNAME:CET
DTSTART:20251026T010000
END:STANDARD
BEGIN:DAYLIGHT
TZOFFSETFROM:+0100
TZOFFSETTO:+0200
TZNAME:CEST
DTSTART:20260329T010000
END:DAYLIGHT
BEGIN:STANDARD
TZOFFSETFROM:+0200
TZOFFSETTO:+0100
TZNAME:CET
DTSTART:20261025T010000
END:STANDARD
BEGIN:DAYLIGHT
TZOFFSETFROM:+0100
TZOFFSETTO:+0200
TZNAME:CEST
DTSTART:20270328T010000
END:DAYLIGHT
BEGIN:STANDARD
TZOFFSETFROM:+0200
TZOFFSETTO:+0100
TZNAME:CET
DTSTART:20271031T010000
END:STANDARD
END:VTIMEZONE
BEGIN:VEVENT
DTSTART;TZID=Europe/Amsterdam:20260618T120000
DTEND;TZID=Europe/Amsterdam:20260618T190000
DTSTAMP:20260421T101614
CREATED:20260204T124749Z
LAST-MODIFIED:20260204T124749Z
UID:10000101-1781784000-1781809200@duurzamebedrijvenroute.nl
SUMMARY:Jaarevent Toekomstbestendige Bedrijventerreinen 2026
DESCRIPTION:Werk in Uitvoering!\n\n\nOp bedrijventerreinen gebeurt het: innovatieve samenwerkingen\, slimme energieoplossingen\, vergroening en duurzame mobiliteit – het werk is écht in uitvoering. \nTijdens het PVB Jaarevent 2026 op 18 juni in Arnhem\, zetten we de beste voorbeelden in de spotlight. Ontdek inspirerende initiatieven\, leer van succesvolle projecten en vier samen met ons de bekendmaking van De Sterren van het Bedrijventerrein. \nJaarevent Toekomstbestendige Bedrijventerreinen \n \nBekijk hier de terugblik van het jaarevent 2025. 
URL:https://duurzamebedrijvenroute.nl/event/jaarevent-toekomstbestendige-bedrijventerreinen-2026/
LOCATION:Act Eventstudios\, Westervoortsedijk 73\, Arnhem\, Gelderland\, 6827 AV\, Netherlands
ATTACH;FMTTYPE=image/jpeg:https://duurzamebedrijvenroute.nl/wp-content/uploads/2026/02/Jaarevent-PVB.jpg
END:VEVENT
END:VCALENDAR